BEGIN:VCALENDAR
VERSION:2.0
PRODID:spatie/icalendar-generator
DESCRIPTION:Events from Ty&amp;ouml\;el&amp;auml\;m&amp;auml\;n taruja
X-WR-CALDESC:Events from Ty&amp;ouml\;el&amp;auml\;m&amp;auml\;n taruja
REFRESH-INTERVAL;VALUE=DURATION:PT1440M
X-PUBLISHED-TTL:PT1440M
BEGIN:VTIMEZONE
TZID:Europe/Helsinki
BEGIN:STANDARD
DTSTART:20201025T040000Z
TZOFFSETFROM:+0300
TZOFFSETTO:+0200
END:STANDARD
BEGIN:DAYLIGHT
DTSTART:20210328T030000Z
TZOFFSETFROM:+0200
TZOFFSETTO:+0300
END:DAYLIGHT
END:VTIMEZONE
BEGIN:VTIMEZONE
TZID:UTC
BEGIN:STANDARD
DTSTART:20250725T092003Z
TZOFFSETFROM:+0000
TZOFFSETTO:+0000
END:STANDARD
END:VTIMEZONE
BEGIN:VEVENT
UID:28-24
DTSTAMP:20260421T092003Z
SUMMARY:Asiaa saavutettavuudesta
LOCATION:
ORGANIZER;CN=Taru Reinikainen:MAILTO:taru@tarureinikainen.fi
DTSTART;TZID=Europe/Helsinki:20210318T180000
DTEND;TZID=Europe/Helsinki:20210318T190000
X-ALT-DESC;FMTTYPE=TEXT/HTML:Keskustelemassa kuntavaaliehdokkaat Pirkko Joh
 ansson ja Taru Reinikainen\, joilla molemmilla on kuulovamma. Pirkon äidi
 nkieli on viittomakieli. Tilaisuudessa on sekä viittomakielen tulkkaus et
 tä kirjoitustulkkaus. Tilaisuus nauhoitetaan. Tervetuloa täysin saavutet
 tavaan vaalitilaisuuteen! https://us02web.zoom.us/j/87547626599
CATEGORIES:General
URL;VALUE=URI:https://www.tyoelamantaruja.fi/mc-events/asiaa-saavutettavuud
 esta/
METHOD:PUBLISH
END:VEVENT
END:VCALENDAR